BEGIN:VCALENDAR
VERSION:2.0
PRODID:waterplanning.georgia.gov
X-WR-TIMEZONE:America/New_York
BEGIN:VTIMEZONE
TZID:America/New_York
X-LIC-LOCATION:America/New_York
END:VTIMEZONE
BEGIN:VEVENT
UID:614d75bc6d4ac
DTSTART;VALUE=DATE:20200317
SEQUENCE:0
TRANSP:OPAQUE
URL:https://waterplanning.georgia.gov/events/2020-03-17/postponed-coosa-nor
 th-georgia-council-meeting-march-25-2020
SUMMARY:POSTPONED: Coosa-North Georgia Council Meeting on March 25\, 2020
CLASS:PUBLIC
X-MICROSOFT-CDO-ALLDAYEVENT:TRUE
DTSTAMP:20210924T025244Z
END:VEVENT
END:VCALENDAR