BEGIN:VCALENDAR
VERSION:2.0
PRODID:waterplanning.georgia.gov
X-WR-TIMEZONE:America/New_York
BEGIN:VTIMEZONE
TZID:America/New_York
X-LIC-LOCATION:America/New_York
END:VTIMEZONE
BEGIN:VEVENT
UID:614d75b678e55
DTSTART;VALUE=DATE:20200318
SEQUENCE:0
TRANSP:OPAQUE
URL:https://waterplanning.georgia.gov/events/2020-03-18/postponed-middle-oc
 mulgee-council-meeting-march-31-2020
SUMMARY:POSTPONED: Middle Ocmulgee Council Meeting on March 31\, 2020
CLASS:PUBLIC
X-MICROSOFT-CDO-ALLDAYEVENT:TRUE
DTSTAMP:20210924T025238Z
END:VEVENT
END:VCALENDAR