BEGIN:VCALENDAR
VERSION:2.0
PRODID:waterplanning.georgia.gov
X-WR-TIMEZONE:America/New_York
BEGIN:VTIMEZONE
TZID:America/New_York
X-LIC-LOCATION:America/New_York
END:VTIMEZONE
BEGIN:VEVENT
UID:614e68ef252e6
DTSTART;TZID=UTC:20180920T133000
SEQUENCE:0
TRANSP:OPAQUE
DTEND;TZID=UTC:20180920T180000
URL:https://waterplanning.georgia.gov/events/2018-09-20/joint-council-meeti
 ng-altamaha-suwannee-satilla-september-20-2018
LOCATION:162 Paulk Park Road FITZGERALD\, GA 31750
SUMMARY:Joint Council Meeting Altamaha & Suwannee-Satilla: September 20\, 2
 018
CLASS:PUBLIC
DESCRIPTION:NOTICE:\n\nALTAMAHA and SUWANNEE-SATILLA REGIONAL WATER PLANNIN
 G COUNCILS JOINT MEETING\n\nAnnouncement Date: August 20\, 2018\n\nTO ALL 
 INTERESTED PERSONS AND PARTIES:\n\nThe Altamaha and Suwannee-Satilla Regio
 nal Water Planning Councils\n\nwill hold a joint meeting at the following 
 date\, time and location:\n\nThursday\, September 20\, 2018\n\nRegistratio
 n: 9:30 A.M. – 10:00 A.M.\n\nMeeting: 10 A.M. – 2:00 P.M.\n\nBen Hill 
 County Agricultural Pavilion 162 Paulk Park Road Fitzgerald\, GA 31750\n\n
 For additional information about the Altamaha Regional Water Planning Coun
 cil\, please contact: Jennifer Welte\, Georgia EPD Watershed Protection Br
 anch\, (404) 463-1694 or jennifer.welte@dnr.ga.gov\n\nFor additional infor
 mation about the Suwannee-Satilla Regional Water Planning Council\, please
  contact: Cliff Lewis\, Georgia EPD Watershed Protection Branch\, (229) 39
 1-2410WYSIWYG: EMBEDDED IMAGE or Cliff.Lewis@dnr.ga.gov
DTSTAMP:20210924T201023Z
END:VEVENT
END:VCALENDAR