BEGIN:VCALENDAR
VERSION:2.0
PRODID:waterplanning.georgia.gov
X-WR-TIMEZONE:America/New_York
BEGIN:VTIMEZONE
TZID:America/New_York
X-LIC-LOCATION:America/New_York
END:VTIMEZONE
BEGIN:VEVENT
UID:614d50453d03c
DTSTART;TZID=UTC:20200604T140000
SEQUENCE:0
TRANSP:OPAQUE
DTEND;TZID=UTC:20200604T164500
URL:https://waterplanning.georgia.gov/events/2020-06-04/updated-savannah-up
 per-ogeechee-regional-water-planning-council-virtual-meeting
SUMMARY:Updated: Savannah-Upper Ogeechee Regional Water Planning Council Vi
 rtual Meeting June 4\, 2020
CLASS:PUBLIC
DESCRIPTION:SAVANNAH-UPPER OGEECHEE REGIONAL WATER PLANNING COUNCIL MEETING
 \n\n\n\nMeeting Announcement Update: May 18\, 2020\n\n\n\n \n\n\n\nTO ALL
  INTERESTED PERSONS AND PARTIES:\n\n\n\nThe Savannah-Upper Ogeechee Region
 al Water Planning Council will hold its next meeting at the following dat
 e and time:\n\n\n\nThursday\, June 4\, 2020\n\n\n\n10:00 A.M. – 12:45 P
 .M.\n\n\n\nThis will be a virtual meeting on the Zoom platform.\n\n\n\n \
 n\n\n\nFor access information and advance meeting materials\, please conta
 ct Ashley Reid (reidan@cdmsmith.com).\n\n\n\n \n\n\n\nFor additional info
 rmation about the Savannah-Upper Ogeechee Regional Water Planning Council\
 , please contact: Haydn Blaize\, Georgia Environmental Protection Division
 \, Haydn.Blaize@dnr.ga.gov\, (404) 463-4935.
DTSTAMP:20210924T001253Z
END:VEVENT
END:VCALENDAR