BEGIN:VCALENDAR
PRODID:waterplanning.georgia.gov
VERSION:2.0
CALSCALE:GREGORIAN
BEGIN:VEVENT
UID:3bde0b97a3057bf49a5bfc33cc2b2099
DTSTAMP:20260425T003740Z
SUMMARY:Middle Chattahoochee Regional Water Planning Council Virtual Meetin
 g May 13\, 2020
DESCRIPTION:MIDDLE CHATTAHOOCHEE REGIONAL WATER PLANNING COUNCIL MEETING\n\
 n\n\nAnnouncement Date: May 7\, 2020\n\n\n\nTO ALL INTERESTED PERSONS AND 
 PARTIES:\n\n\n\nThe Middle Chattahoochee Regional Water Planning Council w
 ill hold its next meeting at the following date and time:\n\n\n\nWednesday
 \, May 13\, 2020\n\n\n\n3:00 P.M. – 4:00 P.M.\n\n\n\nThis will be a virt
 ual meeting on the Microsoft Teams platform.\n\n\n\nFor access information
  and advance meeting materials\, please contact Kristin Rowles (krowles@h2
 opolicycenter.org).\n\n\n\nPlease note that this is a special called meeti
 ng of the Council to consider comments on a proposed amendment to the Metr
 opolitan North Georgia Water Planning District’s Water Resource Manageme
 nt Plan.\n\n\n\nFor additional information about the Middle Chattahoochee 
 Regional Water Planning Council\, please contact: Christine Voudy\, Georgi
 a Environmental Protection Division\, Christine.Voudy@dnr.ga.gov\, 404-463
 -4910.
URL:https://waterplanning.georgia.gov/events/2020-05-13/middle-chattahooche
 e-regional-water-planning-council-virtual-meeting-may-13-2020
DTSTART;VALUE=DATE:20200513
DTEND;VALUE=DATE:20200514
X-LIC-LOCATION:America/New_York
X-WR-TIMEZONE:America/New_York
END:VEVENT
BEGIN:VTIMEZONE
TZID:America/New_York
END:VTIMEZONE
END:VCALENDAR
