BEGIN:VCALENDAR
VERSION:2.0
PRODID:waterplanning.georgia.gov
X-WR-TIMEZONE:America/New_York
BEGIN:VTIMEZONE
TZID:America/New_York
X-LIC-LOCATION:America/New_York
END:VTIMEZONE
BEGIN:VEVENT
UID:614cf94b7e36a
DTSTART;TZID=UTC:20200811T180000
SEQUENCE:0
TRANSP:OPAQUE
DTEND;TZID=UTC:20200811T190000
URL:https://waterplanning.georgia.gov/events/2020-08-11/middle-chattahooche
 e-regional-water-planning-council-virtual-meeting-august-11
SUMMARY:Middle Chattahoochee Regional Water Planning Council Virtual Meetin
 g August 11\, 2020
CLASS:PUBLIC
DESCRIPTION:MIDDLE CHATTAHOOCHEE REGIONAL WATER PLANNING COUNCIL MEETING\n\
 n\n\nAnnouncement Date: August 3\, 2020\n\n\n\n \n\n\n\nTO ALL INTERESTED
  PERSONS AND PARTIES:\n\n\n\nThe Middle Chattahoochee Regional Water Plann
 ing Council will hold its next meeting at the following date and time:\n\n
 \n\nTuesday\, August 11\, 2020\n\n\n\n2:00 P.M. – 3:00 P.M.\n\n\n\n \n\
 n\n\nThis will be a virtual meeting on the Microsoft Teams platform.\n\n\n
 \n \n\n\n\nFor access information\, please contact Kristin Rowles (krowle
 s@h2opolicycenter.org).\n\n\n\n \n\n\n\nPlease note that this is a specia
 l called meeting of the Council for follow-up discussion of the Council’
 s submitted comments on a proposed amendment to the Metropolitan North Geo
 rgia Water Planning District’s Water Resource Management Plan.\n\n\n\nFo
 r additional information about the Middle Chattahoochee Regional Water Pla
 nning Council\, please contact: Christine Voudy\, Georgia Environmental Pr
 otection Division\, Christine.Voudy@dnr.ga.gov\, 404-463-4910.
DTSTAMP:20210923T180147Z
END:VEVENT
END:VCALENDAR