BEGIN:VCALENDAR
VERSION:2.0
PRODID:waterplanning.georgia.gov
X-WR-TIMEZONE:America/New_York
BEGIN:VTIMEZONE
TZID:America/New_York
X-LIC-LOCATION:America/New_York
END:VTIMEZONE
BEGIN:VEVENT
UID:614cf940c4457
DTSTART;TZID=UTC:20200924T153000
SEQUENCE:0
TRANSP:OPAQUE
DTEND;TZID=UTC:20200924T170000
URL:https://waterplanning.georgia.gov/events/2020-09-24/altamaha-regional-w
 ater-planning-council-meeting-september-24-2020
SUMMARY:Altamaha Regional Water Planning Council Meeting: September 24\, 20
 20
CLASS:PUBLIC
DESCRIPTION:NOTICE:\n\nALTAMAHA\n\nREGIONAL WATER PLANNING COUNCIL MEETING\
 n\n\n\nAnnouncement Date: August 14\, 2020\n\nTO ALL INTERESTED PERSONS AN
 D PARTIES:\n\n\n\nThe Altamaha Regional Water Planning Council\n\n\n\nwill
  hold an online meeting at the following date\, time and platform:\n\n\n\n
 Thursday\, September 24\, 2020\n\n\n\nMeeting: 11:30 A.M. – 1:00 P.M.\n\
 n\n\nThis will be a virtual meeting on the Zoom platform\n\n\n\nURL: https
 ://zoom.us/j/7320182519?pwd=Z25wQ2xXTnJIeWhKdnVRSTFCWENnQT09\n\n\n\nPassco
 de: 905249\n\n\n\n \n\n\n\nFor additional information about the Altamaha
  Regional Water Planning Council\, please contact: Jennifer Welte\, Georgi
 a EPD Watershed Protection Branch\, (404) 463-1694 or jennifer.welte@dnr.g
 a.gov
DTSTAMP:20210923T180136Z
END:VEVENT
END:VCALENDAR