BEGIN:VCALENDAR
VERSION:2.0
PRODID:waterplanning.georgia.gov
X-WR-TIMEZONE:America/New_York
BEGIN:VTIMEZONE
TZID:America/New_York
X-LIC-LOCATION:America/New_York
END:VTIMEZONE
BEGIN:VEVENT
UID:608a24d661ff8
DTSTART;TZID=UTC:20201109T180000
SEQUENCE:0
TRANSP:OPAQUE
DTEND;TZID=UTC:20201109T200000
URL:https://waterplanning.georgia.gov/events/2020-11-09/lower-flint-ochlock
 onee-regional-water-planning-council-meeting-november-9-2020
SUMMARY:Lower Flint Ochlockonee Regional Water Planning Council Meeting: No
 vember 9\, 2020
CLASS:PUBLIC
DESCRIPTION:NOTICE: LOWER FLINT OCHLOCKONEE REGIONAL WATER PLANNING COUNCIL
  MEETING\n\n\n\n \n\n\n\nAnnouncement Date: October 1\, 2020\n\n\n\n \n\
 n\n\nTO ALL INTERESTED PERSONS AND PARTIES:\n\n\n\nThe Lower Flint Ochlock
 onee Regional Water Planning Council will hold its next meeting at the fol
 lowing date and time:\n\n\n\nMonday\, November 9\, 2020\n\n\n\n1:00 P.M. 
 – 3:00 P.M.\n\n\n\n \n\n\n\nThis will be a virtual meeting on the Micro
 soft Teams platform.\n\n\n\n \n\n\n\nFor access information\, please cont
 act Kristin Rowles (krowles@h2opolicycenter.org).\n\n\n\n \n\n\n\nFor add
 itional information about the Lower Flint Ochlockonee Regional Water Plann
 ing Council\, please contact: Jennifer Welte\, Georgia Environmental Prote
 ction Division\, Jennifer.Welte@dnr.ga.gov\, 404-463-1694.
DTSTAMP:20210428T231534Z
END:VEVENT
END:VCALENDAR