BEGIN:VCALENDAR
VERSION:2.0
PRODID:waterplanning.georgia.gov
X-WR-TIMEZONE:America/New_York
BEGIN:VTIMEZONE
TZID:America/New_York
X-LIC-LOCATION:America/New_York
END:VTIMEZONE
BEGIN:VEVENT
UID:614e68e2e8005
DTSTART;TZID=UTC:20181024T130000
SEQUENCE:0
TRANSP:OPAQUE
DTEND;TZID=UTC:20181024T173000
URL:https://waterplanning.georgia.gov/events/2018-10-24/upper-oconee-counci
 l-meeting-october-24-2018
LOCATION:3700 Sinclair Dam Road NE MILLEDGEVILLE\, GA 31061
SUMMARY:Upper Oconee Council Meeting: October 24\, 2018
CLASS:PUBLIC
DESCRIPTION:NOTICE:\n\nUPPER OCONEE REGIONAL WATER PLANNING COUNCIL MEETING
 \n\nAnnouncement Date: September 27\, 2018\n\nTO ALL INTERESTED PERSONS AN
 D PARTIES:\n\nThe Upper Oconee Regional Water Planning Council\n\nwill hol
 d a meeting at the following date\, time and location:\n\nWednesday\, Octo
 ber 24\, 2018\n\nRegistration: 9:00 A.M. – 9:30 A.M\n\nMeeting: 9:30 A.M
 . – 1:30 P.\n\nThe Club at Lake Sinclair\n\n3700 Sinclair Dam Road NE\n\
 nMilledgeville\, GA 31061\n\nFor additional information about the Upper Oc
 onee Regional Water Planning Council\, please contact: Anna Truszczynski\,
  Georgia EPD Watershed Protection Branch\, (404) 651-8548WYSIWYG: EMBEDDED
  IMAGE or anna.truszczynski@dnr.ga.gov.
DTSTAMP:20210924T201010Z
END:VEVENT
END:VCALENDAR