BEGIN:VCALENDAR
PRODID:waterplanning.georgia.gov
VERSION:2.0
CALSCALE:GREGORIAN
BEGIN:VEVENT
UID:12a6e71cd78f12bd8ff6bdbcc70c880e
DTSTAMP:20260421T222645Z
SUMMARY:Suwannee-Satilla Regional Water Planning Council Meeting 2026-05-06
DESCRIPTION:                                          
           Notice:                                  
           Suwannee-Satilla                       Regional
  Water Planning Council Meeting\n\n \n\nAnnouncement Date: March 31\, 202
 6\n\n To All Interested Persons and Parties:The Suwannee-Satilla Regional
  Water Planning Council will hold its next meeting at the following date\,
  time\, and location:                                   
            Wednesday\, May 6\, 2026                      
                Registration: 9:30 A.M. – 10:00 A.M.        
                                  Meeting: 10:00 A.M. – 
 2:30 P.M.                                           
   Okefenokee Swamp Park                                 
    5700 Okefenokee Swamp Park Road                          
                       Waycross\, GA 31503\n\n For additional i
 nformation about the Suwannee-Satilla Regional Water Planning Council\, 
 please contact: Russell Nix\, Georgia Environmental Protection Division\,
  russell.nix@dnr.ga.govor (470) 572-4273. \n\n 
URL:https://waterplanning.georgia.gov/events/2026-05-06/suwannee-satilla-co
 uncil-meeting-may-202
DTSTART;VALUE=DATE:20260506
DTEND;VALUE=DATE:20260507
LOCATION:5700 Okefenokee Swamp Park  Waycross\, GA 31503 US
X-LIC-LOCATION:America/New_York
X-WR-TIMEZONE:America/New_York
END:VEVENT
BEGIN:VTIMEZONE
TZID:America/New_York
END:VTIMEZONE
END:VCALENDAR
