BEGIN:VCALENDAR
PRODID:waterplanning.georgia.gov
VERSION:2.0
CALSCALE:GREGORIAN
BEGIN:VEVENT
UID:7f87ba026e7793179afde7c6e1b0b2c5
DTSTAMP:20260425T001034Z
SUMMARY:Upper Flint Council Meeting
DESCRIPTION:NOTICE:\n \nUPPER FLINT\nREGIONAL WATER PLANNING COUNCIL MEETI
 NG\n \n \nAnnouncement Date: November 12\, 2019\n \nTO ALL INTERESTED P
 ERSONS AND PARTIES:\n \nThe Upper Flint Regional Water Planning Council w
 ill hold its next meeting at the following date\, time\, and location:\n 
 \nWednesday\, January 22\, 2020\nRegistration: 9:30 A.M. – 10:00 A.M.\nM
 eeting: 10:00 A.M. – 2:30 P.M.\n \nFlint Energies Corporate Headquarter
 s Auditorium\n3 S. Macon Street\nReynolds\, GA 31076-0308 \n\n\n\nFor addi
 tional information about the Upper Flint Regional Water Planning Council\,
  please contact: Johanna Smith\, Georgia EPD Watershed Protection Branch\,
  404-656-6937 or johanna.smith@dnr.ga.gov\n\n\n\n\nNote: Reliance on a nav
 igation app or GPS might not take you to the correct location. Some navig
 ation applications place the address several blocks to the south of the ac
 tual building location. To find the Flint Energies Building in Reynolds\, 
 see the attached map on which the actual location of Flint Energies has be
 en marked in red. The building faces Highway 96\, and it is one block east
  of the only traffic light in Reynolds. Please park in the parking area fa
 cing Highway 96.
URL:https://waterplanning.georgia.gov/events/2020-01-22/upper-flint-council
 -meeting
DTSTART;VALUE=DATE:20200122
DTEND;VALUE=DATE:20200123
LOCATION:3 S. Macon Street  Reynolds\, GA 31076 US
X-LIC-LOCATION:America/New_York
X-WR-TIMEZONE:America/New_York
END:VEVENT
BEGIN:VTIMEZONE
TZID:America/New_York
END:VTIMEZONE
END:VCALENDAR
