BEGIN:VCALENDAR
PRODID:waterplanning.georgia.gov
VERSION:2.0
CALSCALE:GREGORIAN
BEGIN:VEVENT
UID:020e3edbfdd23f4197d35d56c1bf9c3a
DTSTAMP:20260425T001034Z
SUMMARY:Lower Flint - Ochlockonee Council Meeting
DESCRIPTION:NOTICE: LOWER FLINT-OCHLOCKONEEREGIONAL WATER PLANNING COUNCIL
  MEETING  Announcement Date: November 12\, 2019 TO ALL INTERESTED PERSO
 NS AND PARTIES: The Lower Flint-Ochlockonee Regional Water Planning Counc
 il will hold its next meeting at the following date\, time\, and location:
  Wednesday\, December 11\, 2019Registration: 9:30 A.M. – 10:00 A.M.Meet
 ing: 10:00 A.M. – 2:30 P.M. Student Center (Building C)\, Albany State 
 University\, West Campus (former Darton College campus)Room C266 South240
 0 Gillionville RoadAlbany\, GA  31707 For additional information about t
 he Lower Flint-Ochlockonee Regional Water Planning Council\, please contac
 t: Jennifer Welte\,Georgia EPD Watershed Protection Branch\, 404-463-1694 
 or Jennifer.Welte@dnr.ga.gov Directions: See attached map of ASU West Cam
 pus. Meeting will be in Building C on the map. From Gillionville Road\, en
 ter campus using the East Access Road or the West Access Road. Turn onto D
 arton Lane\, which leads to Building C: Student Center. Park in the studen
 t parking area located in front of the building. Enter the front doors and
  proceed to 2nd floor. 
URL:https://waterplanning.georgia.gov/events/2019-12-11/lower-flint-ochlock
 onee-council-meeting
DTSTART;VALUE=DATE:20191211
DTEND;VALUE=DATE:20191212
LOCATION:2400 Gillionville Road Albany State University\, West Campus\, Stu
 dent Center (Building C)  Albany\, GA 31707 US
X-LIC-LOCATION:America/New_York
X-WR-TIMEZONE:America/New_York
END:VEVENT
BEGIN:VTIMEZONE
TZID:America/New_York
END:VTIMEZONE
END:VCALENDAR
