BEGIN:VCALENDAR
PRODID:waterplanning.georgia.gov
VERSION:2.0
CALSCALE:GREGORIAN
BEGIN:VEVENT
UID:adb518d4d53a4e46fc9f2062577e01e0
DTSTAMP:20260425T001034Z
SUMMARY:Middle Chattahooche Council Meeting
DESCRIPTION:NOTICE:\n \nMIDDLE CHATTAHOOCHEE\nREGIONAL WATER PLANNING COUN
 CIL MEETING\n \n \nAnnouncement Date: December 5\, 2019\n \nTO ALL INTE
 RESTED PERSONS AND PARTIES:\n \nThe Middle Chattahoochee Regional Water P
 lanning Council will hold its next meeting at the following date\, time\, 
 and location:\n \nTuesday\, February 4\, 2020\nRegistration: 10:30 A.M. 
 – 11:00 A.M.\nMeeting: 11:00 A.M. – 3:00 P.M.\n \nColumbus Water Work
 s Main Office\n1421 Veterans Parkway\nColumbus\, GA 31901\n \nFor additio
 nal information about the Middle Chattahoochee Regional Water Planning Cou
 ncil\, please contact: Christine Voudy\, Georgia Environmental Protection 
 Division\, Christine.Voudy@dnr.ga.gov\, 404-463-4910.\n\n\n\n\nPlease note
  that the start time for this meeting is 11:00 AM.
URL:https://waterplanning.georgia.gov/events/2020-02-04/middle-chattahooche
 -council-meeting
DTSTART;VALUE=DATE:20200204
DTEND;VALUE=DATE:20200205
LOCATION:Columbus Water Works Main Office 1421 Veterans Parkway  Columbus\,
  GA 31901 US
X-LIC-LOCATION:America/New_York
X-WR-TIMEZONE:America/New_York
END:VEVENT
BEGIN:VTIMEZONE
TZID:America/New_York
END:VTIMEZONE
END:VCALENDAR
