BEGIN:VCALENDAR
PRODID:waterplanning.georgia.gov
VERSION:2.0
CALSCALE:GREGORIAN
BEGIN:VEVENT
UID:24608d2e9f9c687543503e50029e1533
DTSTAMP:20260425T001034Z
SUMMARY:Altamaha Regional Water Planning Council Meeting: February 13\, 202
 0
DESCRIPTION:NOTICE:\n\nALTAMAHA\n\nREGIONAL WATER PLANNING COUNCIL MEETING\
 n\n\n\nAnnouncement Date: February 10\, 2020\n\nTO ALL INTERESTED PERSONS
  AND PARTIES:\n\n\n\nThe Altamaha Regional Water Planning Council\n\n\n\nw
 ill hold a meeting at the following date\, time and location:\n\nThursday\
 , February 13\, 2020\n\n\n\nRegistration: 9:30 A.M. – 10:00 A.M.\n\n\n\
 nMeeting: 10:00 A.M. – 1:30 P.M.\n\nEconomic Development Center\, Room 
 163 Southeastern Technical College\n\n\n\n100-A Brinson Road Vidalia\, GA 
 30474\n\n\n\nFor additional information about the Altamaha Regional Water 
 Planning Council\, please contact: Jennifer Welte\, Georgia EPD Watershed 
 Protection Branch\, (404) 463-1694 or jennifer.welte@dnr.ga.gov
URL:https://waterplanning.georgia.gov/events/2020-02-13/altamaha-regional-w
 ater-planning-council-meeting-february-13-2020
DTSTART;VALUE=DATE:20200213
DTEND;VALUE=DATE:20200214
LOCATION:100-A Brinson Road  Vidalia\, GA 30474 US
X-LIC-LOCATION:America/New_York
X-WR-TIMEZONE:America/New_York
END:VEVENT
BEGIN:VTIMEZONE
TZID:America/New_York
END:VTIMEZONE
END:VCALENDAR
