BEGIN:VCALENDAR
PRODID:waterplanning.georgia.gov
VERSION:2.0
CALSCALE:GREGORIAN
BEGIN:VEVENT
UID:bec49f9e48ba68d85e65f73aa1aa6167
DTSTAMP:20260425T001034Z
SUMMARY:SAVANNAH – UPPER OGEECHEE REGIONAL WATER PLANNING COUNCIL MEETING
  FEB 6\, 2020
DESCRIPTION:NOTICE:SAVANNAH-UPPER OGEECHEEREGIONAL WATER PLANNING COUNCIL M
 EETINGAnnouncement Date: January 6\, 2020TO ALL INTERESTED PERSONS AND PAR
 TIES:\n\nThe Savannah-Upper Ogeechee Regional Water Planning Council is ho
 lding its next meeting at the following date\, time\, and location:Thursda
 y\, February 6\, 2020Registration: 9:30 A.M. – 10:00 A.M.Meeting: 10:00 
 A.M. – 2:00 P.M.Location:The Phinizy Center for Water Sciences1858 Lock 
 & Dam Road\, Augusta\, Georgia\n\nFor additional information about the Sa
 vannah-Upper Ogeechee Regional Water Planning Council\, please contact: Ha
 ydn Blaize\, Georgia EPD Watershed Protection Branch\, (404) 463-4935 or 
 Haydn.Blaize@dnr.ga.gov
URL:https://waterplanning.georgia.gov/events/2020-02-06/savannah-upper-ogee
 chee-regional-water-planning-council-meeting-feb-6-2020
DTSTART;VALUE=DATE:20200206
DTEND;VALUE=DATE:20200207
LOCATION:The Phinizy Center for Water Sciences 1858 Lock & Dam Road  August
 a\, GA 30906 US
X-LIC-LOCATION:America/New_York
X-WR-TIMEZONE:America/New_York
END:VEVENT
BEGIN:VTIMEZONE
TZID:America/New_York
END:VTIMEZONE
END:VCALENDAR
